BEGIN:VCALENDAR
VERSION:2.0
PRODID:-//Buurt-en werkkamer ModderMolen - ECPv6.15.20//NONSGML v1.0//EN
CALSCALE:GREGORIAN
METHOD:PUBLISH
X-ORIGINAL-URL:https://buurtkamermoddermolen.nl
X-WR-CALDESC:Events for Buurt-en werkkamer ModderMolen
REFRESH-INTERVAL;VALUE=DURATION:PT1H
X-Robots-Tag:noindex
X-PUBLISHED-TTL:PT1H
BEGIN:VTIMEZONE
TZID:Europe/Amsterdam
BEGIN:DAYLIGHT
TZOFFSETFROM:+0100
TZOFFSETTO:+0200
TZNAME:CEST
DTSTART:20250330T010000
END:DAYLIGHT
BEGIN:STANDARD
TZOFFSETFROM:+0200
TZOFFSETTO:+0100
TZNAME:CET
DTSTART:20251026T010000
END:STANDARD
BEGIN:DAYLIGHT
TZOFFSETFROM:+0100
TZOFFSETTO:+0200
TZNAME:CEST
DTSTART:20260329T010000
END:DAYLIGHT
BEGIN:STANDARD
TZOFFSETFROM:+0200
TZOFFSETTO:+0100
TZNAME:CET
DTSTART:20261025T010000
END:STANDARD
BEGIN:DAYLIGHT
TZOFFSETFROM:+0100
TZOFFSETTO:+0200
TZNAME:CEST
DTSTART:20270328T010000
END:DAYLIGHT
BEGIN:STANDARD
TZOFFSETFROM:+0200
TZOFFSETTO:+0100
TZNAME:CET
DTSTART:20271031T010000
END:STANDARD
END:VTIMEZONE
BEGIN:VEVENT
DTSTART;TZID=Europe/Amsterdam:20260309T180000
DTEND;TZID=Europe/Amsterdam:20260309T193000
DTSTAMP:20260425T123734
CREATED:20260304T154453Z
LAST-MODIFIED:20260304T154453Z
UID:1483-1773079200-1773084600@buurtkamermoddermolen.nl
SUMMARY:Voer Vervoer
DESCRIPTION:Creatiever dan een voedselbank. Iedere week halen wij eten op dat anders in de vuilnisbak zou verdwijnen
URL:https://buurtkamermoddermolen.nl/event/voer-vervoer/
LOCATION:Buurtkamer Moddermolen\, Moddermolenstraat 26\, Amsterdam\, Noord-Holland\, 1011 KJ\, Netherlands
ORGANIZER;CN="Buurtkamer Moddermolen":MAILTO:info@buurtkamermoddermolen.nl
END:VEVENT
BEGIN:VEVENT
DTSTART;TZID=Europe/Amsterdam:20260309T110000
DTEND;TZID=Europe/Amsterdam:20260309T183000
DTSTAMP:20260425T123734
CREATED:20260304T154607Z
LAST-MODIFIED:20260304T154607Z
UID:1485-1773054000-1773081000@buurtkamermoddermolen.nl
SUMMARY:Webbureau Amsterdam
DESCRIPTION:Wij maken websites en zorgen dat ze goed vindbaar zijn
URL:https://buurtkamermoddermolen.nl/event/webbureau-amsterdam/
LOCATION:Buurtkamer Moddermolen\, Moddermolenstraat 26\, Amsterdam\, Noord-Holland\, 1011 KJ\, Netherlands
ORGANIZER;CN="Buurtkamer Moddermolen":MAILTO:info@buurtkamermoddermolen.nl
END:VEVENT
BEGIN:VEVENT
DTSTART;TZID=Europe/Amsterdam:20260309T100000
DTEND;TZID=Europe/Amsterdam:20260309T153000
DTSTAMP:20260425T123734
CREATED:20260304T154135Z
LAST-MODIFIED:20260304T154135Z
UID:1481-1773050400-1773070200@buurtkamermoddermolen.nl
SUMMARY:Veeg en Prikploeg
DESCRIPTION:Veeg en prikploeg maakt de buurt cleaner
URL:https://buurtkamermoddermolen.nl/event/veeg-en-prikploeg/
LOCATION:Buurtkamer Moddermolen\, Moddermolenstraat 26\, Amsterdam\, Noord-Holland\, 1011 KJ\, Netherlands
ORGANIZER;CN="Buurtkamer Moddermolen":MAILTO:info@buurtkamermoddermolen.nl
END:VEVENT
END:VCALENDAR